BEGIN:VCALENDAR
VERSION:2.0
PRODID:-//trustthemob.com - ECPv6.13.2.1//NONSGML v1.0//EN
CALSCALE:GREGORIAN
METHOD:PUBLISH
X-WR-CALNAME:trustthemob.com
X-ORIGINAL-URL:https://trustthemob.com
X-WR-CALDESC:Events for trustthemob.com
REFRESH-INTERVAL;VALUE=DURATION:PT1H
X-Robots-Tag:noindex
X-PUBLISHED-TTL:PT1H
BEGIN:VTIMEZONE
TZID:UTC
BEGIN:STANDARD
TZOFFSETFROM:+0000
TZOFFSETTO:+0000
TZNAME:UTC
DTSTART:20210101T000000
END:STANDARD
END:VTIMEZONE
BEGIN:VEVENT
DTSTART;TZID=UTC:20240206T113000
DTEND;TZID=UTC:20240207T210000
DTSTAMP:20260421T185348
CREATED:20231114T181823Z
LAST-MODIFIED:20231114T182211Z
UID:500187-1707219000-1707339600@trustthemob.com
SUMMARY:MOB Innovation and Collaboration Forum
DESCRIPTION:THE MOB FORUM IS A UNIQUE GATHERING OF INDUSTRY LEADERS from the retail\, restaurant\, hospitality\, convenient care and multi-site industries with a focus on Construction\, Design\, Energy\, Facilities\, Store Development and Technology. \nEnjoy the state of the art Hard Rock Hotel & Casino with signature and award-winning restaurants\, a 3\,500-seat Hard Rock Event Center featuring performances from today’s most popular musicians and comedy acts\, a 4.5 acre tropical pool oasis & Beach Club\, a full-service Rock Spa\, fitness center\, and high-energy nightlife. \n  \nMore information\, schedule and registration here\n  \n  \n 
URL:https://trustthemob.com/event/mob-innovation-and-collaboration-forum/
LOCATION:Hard Rock Hotel & Casino in Fort Lauderdale\, FL
CATEGORIES:Industry Event,Meet the MOB
ATTACH;FMTTYPE=image/jpeg:https://trustthemob.com/wp-content/uploads/2023/11/2024-FORUM-cover.jpg
END:VEVENT
BEGIN:VEVENT
DTSTART;VALUE=DATE:20230207
DTEND;VALUE=DATE:20230209
DTSTAMP:20260421T185348
CREATED:20230104T201858Z
LAST-MODIFIED:20230104T201858Z
UID:500144-1675728000-1675900799@trustthemob.com
SUMMARY:5th Annual Innovation and Collaboration Forum
DESCRIPTION:
URL:https://trustthemob.com/event/5th-annual-innovation-and-collaboration-forum/
CATEGORIES:Industry Event,Meet the MOB
END:VEVENT
BEGIN:VEVENT
DTSTART;VALUE=DATE:20211205
DTEND;VALUE=DATE:20211208
DTSTAMP:20260421T185348
CREATED:20210906T153427Z
LAST-MODIFIED:20210906T153427Z
UID:187-1638662400-1638921599@trustthemob.com
SUMMARY:ICSC RECon
DESCRIPTION:
URL:https://trustthemob.com/event/icsc-recon/
CATEGORIES:Industry Event
END:VEVENT
BEGIN:VEVENT
DTSTART;VALUE=DATE:20211031
DTEND;VALUE=DATE:20211104
DTSTAMP:20260421T185348
CREATED:20210906T153333Z
LAST-MODIFIED:20210906T153333Z
UID:185-1635638400-1635983999@trustthemob.com
SUMMARY:RestaurantPoint East
DESCRIPTION:
URL:https://trustthemob.com/event/restaurantpoint-east/
CATEGORIES:Industry Event
END:VEVENT
BEGIN:VEVENT
DTSTART;VALUE=DATE:20211024
DTEND;VALUE=DATE:20211027
DTSTAMP:20260421T185348
CREATED:20210906T153256Z
LAST-MODIFIED:20210906T153256Z
UID:183-1635033600-1635292799@trustthemob.com
SUMMARY:HotelSpaces
DESCRIPTION:
URL:https://trustthemob.com/event/hotelspaces/
CATEGORIES:Industry Event
END:VEVENT
BEGIN:VEVENT
DTSTART;VALUE=DATE:20211024
DTEND;VALUE=DATE:20211027
DTSTAMP:20260421T185348
CREATED:20210906T153220Z
LAST-MODIFIED:20210906T153220Z
UID:181-1635033600-1635292799@trustthemob.com
SUMMARY:HealthSpaces
DESCRIPTION:
URL:https://trustthemob.com/event/healthspaces/
CATEGORIES:Industry Event
END:VEVENT
BEGIN:VEVENT
DTSTART;VALUE=DATE:20211017
DTEND;VALUE=DATE:20211020
DTSTAMP:20260421T185348
CREATED:20210906T153051Z
LAST-MODIFIED:20210906T153051Z
UID:177-1634428800-1634687999@trustthemob.com
SUMMARY:RestaurantSpaces
DESCRIPTION:
URL:https://trustthemob.com/event/restaurantspaces/
CATEGORIES:Industry Event
END:VEVENT
BEGIN:VEVENT
DTSTART;VALUE=DATE:20210919
DTEND;VALUE=DATE:20210922
DTSTAMP:20260421T185348
CREATED:20210906T152934Z
LAST-MODIFIED:20210906T152934Z
UID:175-1632009600-1632268799@trustthemob.com
SUMMARY:RetailSpaces
DESCRIPTION:
URL:https://trustthemob.com/event/retailspaces/
CATEGORIES:Industry Event
END:VEVENT
END:VCALENDAR